BEGIN:VCALENDAR
VERSION:2.0
PRODID:-//Dotternhausen - ECPv6.15.18//NONSGML v1.0//EN
CALSCALE:GREGORIAN
METHOD:PUBLISH
X-ORIGINAL-URL:https://www.dotternhausen.de
X-WR-CALDESC:Veranstaltungen für Dotternhausen
REFRESH-INTERVAL;VALUE=DURATION:PT1H
X-Robots-Tag:noindex
X-PUBLISHED-TTL:PT1H
BEGIN:VTIMEZONE
TZID:Europe/Berlin
BEGIN:DAYLIGHT
TZOFFSETFROM:+0100
TZOFFSETTO:+0200
TZNAME:CEST
DTSTART:20250330T010000
END:DAYLIGHT
BEGIN:STANDARD
TZOFFSETFROM:+0200
TZOFFSETTO:+0100
TZNAME:CET
DTSTART:20251026T010000
END:STANDARD
BEGIN:DAYLIGHT
TZOFFSETFROM:+0100
TZOFFSETTO:+0200
TZNAME:CEST
DTSTART:20260329T010000
END:DAYLIGHT
BEGIN:STANDARD
TZOFFSETFROM:+0200
TZOFFSETTO:+0100
TZNAME:CET
DTSTART:20261025T010000
END:STANDARD
BEGIN:DAYLIGHT
TZOFFSETFROM:+0100
TZOFFSETTO:+0200
TZNAME:CEST
DTSTART:20270328T010000
END:DAYLIGHT
BEGIN:STANDARD
TZOFFSETFROM:+0200
TZOFFSETTO:+0100
TZNAME:CET
DTSTART:20271031T010000
END:STANDARD
END:VTIMEZONE
BEGIN:VEVENT
DTSTART;VALUE=DATE:20260424
DTEND;VALUE=DATE:20260425
DTSTAMP:20260423T174748
CREATED:20260113T082910Z
LAST-MODIFIED:20260113T082910Z
UID:6869-1776988800-1777075199@www.dotternhausen.de
SUMMARY:Schleifchenturnier
DESCRIPTION:
URL:https://www.dotternhausen.de/event/schleifchenturnier-2/
LOCATION:Sportgelände Dotternhausen
ORGANIZER;CN="Tennisclub Dotternhausen e. V.":MAILTO:info@dotttennis.de
END:VEVENT
BEGIN:VEVENT
DTSTART;VALUE=DATE:20260427
DTEND;VALUE=DATE:20260428
DTSTAMP:20260423T174748
CREATED:20260113T082959Z
LAST-MODIFIED:20260113T082959Z
UID:6871-1777248000-1777334399@www.dotternhausen.de
SUMMARY:Frühjahrsversammlung NFR-Zollernalb
DESCRIPTION:
URL:https://www.dotternhausen.de/event/fruehjahrsversammlung-nfr-zollernalb/
LOCATION:Dotternhausen\, Hauptstr. 21\, Dotternhausen\, Baden-Württemberg\, 72359\, Deutschland
ORGANIZER;CN="Narrenzunft Dotternhausen e.V.":MAILTO:roedermichael86@gmx.de
END:VEVENT
BEGIN:VEVENT
DTSTART;VALUE=DATE:20260430
DTEND;VALUE=DATE:20260502
DTSTAMP:20260423T174748
CREATED:20260113T083041Z
LAST-MODIFIED:20260113T083041Z
UID:6873-1777507200-1777679999@www.dotternhausen.de
SUMMARY:Maifest
DESCRIPTION:
URL:https://www.dotternhausen.de/event/maifest-5/
LOCATION:Feuerwehrhaus\, Kirchstraße 8/2\, Dotternhausen
END:VEVENT
END:VCALENDAR