BEGIN:VCALENDAR
VERSION:2.0
PRODID:-//Dotternhausen - ECPv6.15.18//NONSGML v1.0//EN
CALSCALE:GREGORIAN
METHOD:PUBLISH
X-ORIGINAL-URL:https://www.dotternhausen.de
X-WR-CALDESC:Veranstaltungen für Dotternhausen
REFRESH-INTERVAL;VALUE=DURATION:PT1H
X-Robots-Tag:noindex
X-PUBLISHED-TTL:PT1H
BEGIN:VTIMEZONE
TZID:Europe/Berlin
BEGIN:DAYLIGHT
TZOFFSETFROM:+0100
TZOFFSETTO:+0200
TZNAME:CEST
DTSTART:20250330T010000
END:DAYLIGHT
BEGIN:STANDARD
TZOFFSETFROM:+0200
TZOFFSETTO:+0100
TZNAME:CET
DTSTART:20251026T010000
END:STANDARD
BEGIN:DAYLIGHT
TZOFFSETFROM:+0100
TZOFFSETTO:+0200
TZNAME:CEST
DTSTART:20260329T010000
END:DAYLIGHT
BEGIN:STANDARD
TZOFFSETFROM:+0200
TZOFFSETTO:+0100
TZNAME:CET
DTSTART:20261025T010000
END:STANDARD
BEGIN:DAYLIGHT
TZOFFSETFROM:+0100
TZOFFSETTO:+0200
TZNAME:CEST
DTSTART:20270328T010000
END:DAYLIGHT
BEGIN:STANDARD
TZOFFSETFROM:+0200
TZOFFSETTO:+0100
TZNAME:CET
DTSTART:20271031T010000
END:STANDARD
END:VTIMEZONE
BEGIN:VEVENT
DTSTART;VALUE=DATE:20260430
DTEND;VALUE=DATE:20260502
DTSTAMP:20260423T232552
CREATED:20260113T083041Z
LAST-MODIFIED:20260113T083041Z
UID:6873-1777507200-1777679999@www.dotternhausen.de
SUMMARY:Maifest
DESCRIPTION:
URL:https://www.dotternhausen.de/event/maifest-5/
LOCATION:Feuerwehrhaus\, Kirchstraße 8/2\, Dotternhausen
END:VEVENT
BEGIN:VEVENT
DTSTART;VALUE=DATE:20260503
DTEND;VALUE=DATE:20260504
DTSTAMP:20260423T232552
CREATED:20260113T083245Z
LAST-MODIFIED:20260113T083245Z
UID:6875-1777766400-1777852799@www.dotternhausen.de
SUMMARY:Maiandacht
DESCRIPTION:
URL:https://www.dotternhausen.de/event/maiandacht/
LOCATION:Kath. Kirche St. Martinus\, Dotternhausen
END:VEVENT
BEGIN:VEVENT
DTSTART;VALUE=DATE:20260505
DTEND;VALUE=DATE:20260506
DTSTAMP:20260423T232552
CREATED:20260113T083323Z
LAST-MODIFIED:20260113T083323Z
UID:6877-1777939200-1778025599@www.dotternhausen.de
SUMMARY:Spielenachmittag
DESCRIPTION:
URL:https://www.dotternhausen.de/event/spielenachmittag-4/
LOCATION:St. Anna Stift\, Kirchstraße\, Dotternhausen\, 72359
END:VEVENT
BEGIN:VEVENT
DTSTART;VALUE=DATE:20260508
DTEND;VALUE=DATE:20260509
DTSTAMP:20260423T232552
CREATED:20260113T083407Z
LAST-MODIFIED:20260113T083407Z
UID:6879-1778198400-1778284799@www.dotternhausen.de
SUMMARY:Generalversammlung
DESCRIPTION:
URL:https://www.dotternhausen.de/event/generalversammlung-20/
LOCATION:St. Anna Stift\, Kirchstraße\, Dotternhausen\, 72359
END:VEVENT
BEGIN:VEVENT
DTSTART;VALUE=DATE:20260509
DTEND;VALUE=DATE:20260510
DTSTAMP:20260423T232552
CREATED:20260113T083515Z
LAST-MODIFIED:20260113T083515Z
UID:6881-1778284800-1778371199@www.dotternhausen.de
SUMMARY:Felsberäumung
DESCRIPTION:
URL:https://www.dotternhausen.de/event/felsberaeumung/
LOCATION:Plettenberg\, Dotternhausen
END:VEVENT
BEGIN:VEVENT
DTSTART;VALUE=DATE:20260509
DTEND;VALUE=DATE:20260510
DTSTAMP:20260423T232552
CREATED:20260113T083549Z
LAST-MODIFIED:20260113T083549Z
UID:6883-1778284800-1778371199@www.dotternhausen.de
SUMMARY:Frühjahreskonzert
DESCRIPTION:
URL:https://www.dotternhausen.de/event/fruehjahreskonzert/
LOCATION:Festhalle Dotternhausen\, Festhallenstraße 12\, Dotternhausen\, 72359
END:VEVENT
BEGIN:VEVENT
DTSTART;VALUE=DATE:20260514
DTEND;VALUE=DATE:20260518
DTSTAMP:20260423T232552
CREATED:20260113T083651Z
LAST-MODIFIED:20260113T083651Z
UID:6885-1778716800-1779062399@www.dotternhausen.de
SUMMARY:Fischerfest
DESCRIPTION:
URL:https://www.dotternhausen.de/event/fischerfest-5/
LOCATION:Dorfweiher\, Dotternhausen\, 72359
END:VEVENT
BEGIN:VEVENT
DTSTART;VALUE=DATE:20260517
DTEND;VALUE=DATE:20260518
DTSTAMP:20260423T232552
CREATED:20260113T083743Z
LAST-MODIFIED:20260113T083743Z
UID:6887-1778976000-1779062399@www.dotternhausen.de
SUMMARY:Unterhaltungsauftritt Fischerfest
DESCRIPTION:
URL:https://www.dotternhausen.de/event/unterhaltungsauftritt-fischerfest/
LOCATION:Dorfweiher\, Dotternhausen\, 72359
END:VEVENT
BEGIN:VEVENT
DTSTART;VALUE=DATE:20260519
DTEND;VALUE=DATE:20260520
DTSTAMP:20260423T232552
CREATED:20260113T083826Z
LAST-MODIFIED:20260113T083826Z
UID:6889-1779148800-1779235199@www.dotternhausen.de
SUMMARY:Cafe plus
DESCRIPTION:
URL:https://www.dotternhausen.de/event/cafe-plus-5/
LOCATION:Dormettingen\, Dormettingen
END:VEVENT
BEGIN:VEVENT
DTSTART;VALUE=DATE:20260520
DTEND;VALUE=DATE:20260521
DTSTAMP:20260423T232552
CREATED:20260113T083902Z
LAST-MODIFIED:20260113T083902Z
UID:6891-1779235200-1779321599@www.dotternhausen.de
SUMMARY:Gemeinderatssitzung
DESCRIPTION:
URL:https://www.dotternhausen.de/event/gemeinderatssitzung-32/
LOCATION:Rathaus Dotternhausen\, Hauptstraße 21\, Dotternhausen
END:VEVENT
BEGIN:VEVENT
DTSTART;VALUE=DATE:20260521
DTEND;VALUE=DATE:20260522
DTSTAMP:20260423T232552
CREATED:20260113T083939Z
LAST-MODIFIED:20260113T083939Z
UID:6893-1779321600-1779407999@www.dotternhausen.de
SUMMARY:Essen in Gemeinschaft
DESCRIPTION:
URL:https://www.dotternhausen.de/event/essen-in-gemeinschaft-15/
LOCATION:Dormettingen\, Dormettingen
END:VEVENT
BEGIN:VEVENT
DTSTART;VALUE=DATE:20260522
DTEND;VALUE=DATE:20260523
DTSTAMP:20260423T232552
CREATED:20260113T084013Z
LAST-MODIFIED:20260113T084132Z
UID:6895-1779408000-1779494399@www.dotternhausen.de
SUMMARY:Generalversammlung
DESCRIPTION:
URL:https://www.dotternhausen.de/event/generalversammlung-21/
LOCATION:St. Anna Stift\, Kirchstraße\, Dotternhausen\, 72359
END:VEVENT
BEGIN:VEVENT
DTSTART;VALUE=DATE:20260527
DTEND;VALUE=DATE:20260528
DTSTAMP:20260423T232552
CREATED:20260113T084216Z
LAST-MODIFIED:20260113T084216Z
UID:6897-1779840000-1779926399@www.dotternhausen.de
SUMMARY:SonNe Cafe
DESCRIPTION:
URL:https://www.dotternhausen.de/event/sonne-cafe-19/
LOCATION:Rathaus Dotternhausen\, Hauptstraße 21\, Dotternhausen
END:VEVENT
BEGIN:VEVENT
DTSTART;VALUE=DATE:20260530
DTEND;VALUE=DATE:20260531
DTSTAMP:20260423T232552
CREATED:20260113T084305Z
LAST-MODIFIED:20260113T084305Z
UID:6899-1780099200-1780185599@www.dotternhausen.de
SUMMARY:Saisonabschluss Fußballabteilung
DESCRIPTION:
URL:https://www.dotternhausen.de/event/saisonabschluss-fussballabteilung/
LOCATION:Sportgelände/Sportheim\, Dotternhausen
END:VEVENT
END:VCALENDAR